BEGIN:VCALENDAR
PRODID:www.parpacific.com
VERSION:2.0
CALSCALE:GREGORIAN
BEGIN:VEVENT
UID:13cc07de816441cab64ac53d94404b5a
DTSTAMP:20260425T160812Z
SUMMARY:Par Pacific Holdings First Quarter 2026 Earnings Conference Call
DESCRIPTION:Par Pacific Holdings First Quarter 2026 Earnings Conference Cal
 l
DTSTART:20260506T140000
DTEND:20260506T160000
LOCATION:
END:VEVENT
END:VCALENDAR
